BEGIN:VCALENDAR
VERSION:2.0
METHOD:PUBLISH
BEGIN:VEVENT
UID:WILD_APRICOT_EVENT_2956530_SESSION_1
DTSTART:20181004T083000Z
DTEND:20181004T113000Z
SUMMARY:Tim Harcourt - The Airport Economist
LOCATION:SkyCity Darwin\, Grand Ballroom
DESCRIPTION:https://energyclubnt.com.au/event-2956530\n\n\n\n  Trump Tariffs and Trade Wars - The Airport Economist’s guide to the global economy \n\n  American President Donald Trump came to office on the back of a “Put America First” platform of populism and trade protection. And it hasn’t just been trade policy by twitter\, in office Trump has made good on his threats\, and has imposed import tariffs setting up a trade war not just with China but with allies such as the European Union\, Canada and Brazil. \n  But how sustainable is this trade war and what does it mean for the Americas\, Europe\, the Middle East and emerging markets? And what does it mean for Australia’s engagement with Asia? Can Australia be the honest broker with Asia\, compared to the erratic incumbent in the White House? And how does that affect energy markets and our export outlook for Asia? \n  Join Tim Harcourt\, host of The Airport Economist TV show and podcast series and author of the books on a trip around the global economy. Tim was Chief Economist of Austrade and an economist with the Australian Council of Trade Unions (ACTU)\, Reserve Bank of Australia (RBA) and International Adviser to 3 Federal Cabinet Ministers and 2 Premiers. \n  www.theairporteconomist.com\n  Join the Airport Economist’s guide to the global economy and what some of these trends may mean for Asia\, Australia and the Northern Territory\n  This event is proudly sponsored by:\n  \n\n  \n\n  \n\n  Tickets include 2 course dinner\, beer\, wine and soft drinks\n
DTSTAMP:20260424T184641Z
END:VEVENT
END:VCALENDAR
