BEGIN:VCALENDAR
VERSION:2.0
METHOD:PUBLISH
BEGIN:VEVENT
UID:WILD_APRICOT_EVENT_3097978_SESSION_1
DTSTART:20190330T213000Z
DTEND:20190330T213000Z
SUMMARY:2019 Bluewater Classic
LOCATION:Departing from Cullen Bay Marina
DESCRIPTION:https://energyclubnt.com.au/event-3097978\n\n\n\n  Energy Club NT Bluewater Classic - Sunday 31 March 2019\n  If sold out - Please join the wait list as place may become available.\n  The annual Energy Club NT Bluewater Classic provides a unique opportunity to enjoy some friendly competition among 100 of your colleagues and peers with a half day charter on the water followed by a delicious and well earned presentation lunch at Yots Greek Taverna at Cullen Bay Marina.\n  Invite your clients\, get a group together for some team building or just come along to participate with our members and guests on the day. You don’t need to be a professional angler to participate... All fishing equipment\, rods and tackle will be supplied along with food and drinks throughout the day. Any fish caught are allowed to be kept within the NT bag limits and laws.\n  This event sells out every year so please don't delay in getting your teams together!\n  Members: $265\n  Member guests: $275\n  Non members: $300\n  Each ticket includes breakfast\, lunch\, snacks and beer\, wine and soft drinks throughout the event. All fishing rods and tackle also supplied.\n  View photos from the 2018 Bluewater Classic! \n  All boats will leave from Cullen Bay from approx 7.00am returning at 12.00pm. Time of departure will be confirmed closer to the event date depending on tides. Registration from 30 minutes prior to departure time - please arrive in plenty of time to be assigned to your boat teams.The presentation lunch will follow with trophies and great prizes for individuals\, teams and the overall winning boat. For those without good sea legs - you can still come along and join in the fun at the PCNT presentation lunch from 12.30pm presented by our major sponsors. \nTickets for the presentation lunch can be purchased and include full table service Greek banquet\, beer\, wine and soft drinks at $100 per person.   Proudly sponsored by:\n  \n\n
DTSTAMP:20260424T171803Z
END:VEVENT
END:VCALENDAR
