BEGIN:VCALENDAR
VERSION:2.0
METHOD:PUBLISH
BEGIN:VEVENT
UID:WILD_APRICOT_EVENT_3426942_SESSION_1
DTSTART:20190627T080000Z
DTEND:20190627T100000Z
SUMMARY:Pressure Dynamics Industry Showcase - Specialist Hydraulics & Lifting Solutions Facility Opening
LOCATION:7 Andrews Street\, Berrimah
DESCRIPTION:https://energyclubnt.com.au/event-3426942\n\n\n\n     Pressure Dynamics NT in collaboration with Energy Club NT invite you to the opening of PDNT’s new\, larger and improved Specialist Hydraulics & Lifting Solutions workshop.\n    This event shall be a great opportunity to network with members and guests from the NT energy sector\, stakeholders and the wider business community (especially the night prior to the Energy Club NT Golf in the Tropics day).\n    Pressure Dynamics is a Specialist Hydraulics & Lifting Solutions and services contractor and are specialist engineers for the:\n       * design\, manufacture\, installation and commissioning\n\n        * inspection\, maintenance and repair\n\n        * storage\, maintenance\, and preservation\n\n        * asset management and condition monitoring\n\n        * reliability engineering and engineering consulting\n\n        * modelling\, simulation\, and training\n\n      of hydraulic and lifting equipment and controls systems.\n    PDNT has operated as a self-sufficient business and operation in Darwin and the Northern Territory since late 2016\, setting up its original specialist hydraulics services workshop in Berrimah in September 2017. PDNT currently employs 6 local\, permanent staff and is in the process of implementing its resource growth plan\, inclusive of indigenous personnel.  PDNT are active members of the local community\, including PDNT’s sponsorship of a local indoor cricket team.\n    Over the past 9 months Pressure Dynamics has expanded its business lines to include:\n       * Hydraulics Equipment OEM and Maintenance Services\n\n        * Cranes & Lifting Maintenance Services\n\n        * Engineered Products Sales – standard PDs equipment\, OEM componentry and consumables\n\n        * Fluid Conveyance Products Sales – Hose Integrity Management services\; Hydraulic & Industrial Hose and materials supply\n\n     and PDNT has been an instrumental player in the evolution in the local Oil & Gas\, Energy\, Mining & Marine market sectors\, especially as major projects develop into operating assets.\n  PDNT is the trusted partner\, Specialist Hydraulic And Lifting Solutions provider\, and service contractor to all of the regional Oil & Gas Operators and their Tier 1 contractors in the region.\n  PDNT is a proud\, active member and Local Business Sponsor of Energy Club NT.\n  This is a free event - please ensure you register for catering purposes.\n  A selection of canapes\, beer\, wine and soft drinks shall be provided by our hosts and sponsor:\n  \n\n
DTSTAMP:20260424T171825Z
END:VEVENT
END:VCALENDAR
