BEGIN:VCALENDAR
VERSION:2.0
METHOD:PUBLISH
BEGIN:VEVENT
UID:WILD_APRICOT_EVENT_3442198_SESSION_1
DTSTART:20190702T083000Z
DTEND:20190702T113000Z
SUMMARY:Unconventional Natural Gas Development: The Pennsylvania Experience
LOCATION:Mindil Beach Casino and Resort\, Grand Ballroom
DESCRIPTION:https://energyclubnt.com.au/event-3442198\n\n\n\n  Unconventional Natural Gas Development: The Pennsylvania Experience\n  In the years since natural gas drilling began in the Marcellus and Utica shales\, the US State of Pennsylvania has experienced the development of over 11\,000 unconventional wells\, a multi-billion pipeline construction build out\, and the single largest investment since World War II - Shell Pennsylvania Chemicals – the first downstream petrochemical manufacturing facility of its kind on the east coast of the United States. \n  Denise Brinley\, the Executive Director of Pennsylvania Governor’s Office of Energy will speak about Pennsylvania's experience with responsible unconventional gas development.\n  Denise's office straddles energy policy\, workforce development\, and economic development\, giving her a unique view of the challenges and opportunities presented by the development of this resource.\n  After her presentation Denise will be joined on a panel for further discussion and input from Northern Territory stakeholders. The panel will include:\n      * David Taylor\, President of Pennsylvania Manufacturers’ Association\n\n        * Dave Close\, SANTOS General Manager Onshore New ventures\n\n        * Joanne Townsend\, CEO Department Environment and Natural Resources\n\n  Please join us for a discussion of the historical growth and current trajectory of this industry from both state and private sector leadership.\n  Tickets include 2 course meal and drinks.\n  Proudly sponsored by\n  \n\n
DTSTAMP:20260424T171733Z
END:VEVENT
END:VCALENDAR
