BEGIN:VCALENDAR
VERSION:2.0
METHOD:PUBLISH
BEGIN:VEVENT
UID:WILD_APRICOT_EVENT_3447453_SESSION_1
DTSTART:20190708T073000Z
DTEND:20190708T093000Z
SUMMARY:ALICE SPRINGS Origin Beetaloo Exploration Project: Learning exchange to maximise NT opportunities
LOCATION:Star of Alice\, 31 Palm Circuit Alice Springs
DESCRIPTION:https://energyclubnt.com.au/event-3447453\n\n\n  Background:\n  Origin is preparing to resume its Beetaloo Exploration  Project activities this year.  Specialised scopes of work for the  drilling and  completion activities  have been tendered and awarded and Origin now seeks to  host an information and networking session one in Alice Springs and one in Tennant Creek in July. \n  ALICE SPRINGS\n  8 July 2019 5.00pm-7.00pm - Star of Alice\n  \n\n  TENNANT CREEK\n  10 July 2019 4.30pm-6.30pm - Battery Hill Mining Centre\n  \n\n  An opening presentation will be provided by Stephanie Stonier\, Northern Australia Corporate Affairs Manager.\n  Following the presentation\, drinks and canapes will be provided for guests to further facilitate an opportunity to network. Please advise any special dietary requirements on registration.\n  An opportunity for local Alice Springs\, Tennant Creek and surrounding regional businesses to have a one on one meeting with the Origin representatives will be available on Tuesday 9 July (ASP) and Thursday 11 July (TC). This meeting will allow companies to present their capability and service offering. Places are limited so please ensure you register your company interest for this event. Preference will be given to local Alice Springs and Tennant Creek businesses operating in the region.\n  To register your expression of interest for the one on one capability discussions with Origin please use the following links or visit the Energy Club NT events page for more details on all upcoming events and registrations.\n  ALICE SPRINGS\n  9 July 2019 CADO\, Todd Mall\n  \n  TENNANT CREEK\n  11 July 2019 Bluestone Motor Inn \n   \n  Email directly if you have any questions: info@energyclubnt.com.au\n
DTSTAMP:20260424T171742Z
END:VEVENT
END:VCALENDAR
