BEGIN:VCALENDAR
VERSION:2.0
METHOD:PUBLISH
BEGIN:VEVENT
UID:WILD_APRICOT_EVENT_3450871_SESSION_1
DTSTART:20190710T230000Z
DTEND:20190711T073000Z
SUMMARY:TENNANT CREEK - Expression of Interest - Origin Business Meetings
LOCATION:Bluestone Motor Inn - 1 Paterson St\, Tennant Creek
DESCRIPTION:https://energyclubnt.com.au/event-3450871\n\n\n\n  Origin representatives will be visiting regional business communities to offer an opportunity for businesses to provide an overview of their service offering relevant to potential opportunities that may become available through the Beetaloo Exploration Project.\n  If your businesses is interested in securing a meeting opportunity\, please register now online and confirmation will follow first week of July prior to the meeting dates.\n  Origin will also be hosting an open networking event in Tennant on the evening of Wednesday 10 July to provide an overview of the current status of the project and an opportunity for networking. Registrations for this event are also open online on the Energy Club NT events page.\n
DTSTAMP:20260424T171814Z
END:VEVENT
END:VCALENDAR
