BEGIN:VCALENDAR
VERSION:2.0
METHOD:PUBLISH
BEGIN:VEVENT
UID:WILD_APRICOT_EVENT_3564685_SESSION_1
DTSTART:20191015T083000Z
DTEND:20191015T113000Z
SUMMARY:Armour Energy - Northern Australia Project - Heading towards Production
LOCATION:Mindil Beach Casino and Resort\, Grand Ballroom
DESCRIPTION:https://energyclubnt.com.au/event-3564685\n\n\n\n  Sponsorship now available for this event.\n  Presentation Brief\n  Since 2012\, Armour Energy have been pioneers in exploration in Northern Australia exploring conventional and unconventional petroleum targets.  \n  Exploration to date includes 7 wells (80% success rate with 57TCF recoverable). The Egilabria-2well in north Queensland was an Australian first for proving gas flows from a hydraulically stimulated lateral in a shale target. \n  Neil McDonald will present on the success and challenges of Armour Energy's Northern Australia Project\, the life of a Junior Explorer and Armour's plans for heading towards a Production Licence for conventional gas from the  Company’s Northern Territory tenements. \n  Luke Titus will discuss the exploration success to date and the operational and technical requirements for proceeding to production.  He will also share insight into how best to produce from Conventional and Unconventional sources including how Armour undertook successful Hydraulic Fracturing of its Queensland wells. \n  About Armour Energy \n      * Armour Energy Limited is an Australian Company\, headquartered in Brisbane\, Queensland\; and  listed on the Australian Stock Exchange (ASX:AJQ)\n\n        * Extensive Northern Australian exploration acreage\, near to existing gas pipeline infrastructure and market\n\n        * Key exploration and production assetson Roma Shelf in south-west Queensland\, connected to the Eastern Australian Gas Market at Wallumbilla via 100% Armour Owned Assets – current 105PJ (85%) of 2P reserves uncontracted\n\n        * 5 year Gas Sales Agreement (up to 3.6PJ/a) with Australia Pacific LNG\n\n        * Armour targeting Multi-TCF potential of Roma Shelf – addressing significant gas opportunities in Australian East Coast Domestic Gas Market.\n\n  This event is proudly sponsored by:\n  \n\n       Tickets include 2 course meal and drinks.   This event is open to Energy Club NT members\, guests and approved general admission.\n
DTSTAMP:20260424T184942Z
END:VEVENT
END:VCALENDAR
