BEGIN:VCALENDAR
VERSION:2.0
METHOD:PUBLISH
BEGIN:VEVENT
UID:WILD_APRICOT_EVENT_3634011_SESSION_1
DTSTART:20200829T210000Z
DTEND:20200830T030000Z
SUMMARY:2020 Energy Club NT Bluewater Classic
LOCATION:Departs from Cullen Bay Marina
DESCRIPTION:https://energyclubnt.com.au/event-3634011\n\n\n\n  Energy Club NT Bluewater Classic\n  Sunday 30 August 2020\n  The best way to experience part of the unique Territory lifestyle!\n  Sold out - please register your interest on the wait list.\n  The annual Energy Club NT Bluewater Classic provides a unique opportunity to enjoy some friendly competition among your colleagues and peers with a half day charter on the water followed by a delicious and well earned presentation lunch. A true Territory experience you don't want to miss! \n  Invite your clients\, get a group together for some team building or just come along to participate with our members and guests on the day. You don’t need to be a professional angler to participate... All fishing equipment\, rods and tackle will be supplied along with food and drinks throughout the day. Any fish caught are allowed to be kept within the NT bag limits and laws.\n  ALL INCLUSIVE!\n  Each ticket includes breakfast\, lunch\, snacks and beer\, wine and soft drinks throughout the day. All fishing rods and tackle also supplied.\n\n  View photos from the 2019 Bluewater Classic! \n  All boats will leave from Cullen Bay from approx 6.30am returning at 12.30pm. Time of departure will be confirmed closer to the event date depending on tides - please ensure you register your correct email address to stay updated. Registration open from 30 minutes prior to departure time - please arrive in plenty of time to be assigned to your boat teams.The presentation lunch will follow with trophies and great prizes for individuals\, teams and the overall winning boat. For those without good sea legs - you can still come along and join in the fun at the presentation lunch from 12.30pm. \n  PLEASE NOTE TIMES ARE APPROXIMATE AND WILL BE FINALISED CLOSER TO THE DATE.\n  Tickets for the presentation lunch can be purchased and include full table service banquet\, beer\, wine and soft drinks at $100 per person. \n  Bluewater Classic Champions List\n  2020 Aggreko\n  2019 Monadelphous\n  2018 Freo Group\n  2017 NT Port and Marine\n  2016 Enermech Australia\n  \n\n  \n\n
DTSTAMP:20260424T171753Z
END:VEVENT
END:VCALENDAR
